BEGIN:VCALENDAR
VERSION:2.0
PRODID:-//Tukios.com/
BEGIN:VEVENT
UID:9a7e0b8c-cd2b-4241-91ac-ad6fffdefa2f@www.swearingenfuneral.com
DTSTAMP:20260421T200529Z
DTSTART:20260423T190000Z
DTEND:20260423T200000Z
SUMMARY:Graveside Service
DESCRIPTION:
URL:https://www.swearingenfuneral.com/obituaries/tessie-lorene-chandler
LOCATION: Highway 270 East  Seminole OK 74868
GEO:35.2245793;-96.6526647
END:VEVENT
END:VCALENDAR