BEGIN:VCALENDAR
VERSION:2.0
PRODID:-//Tukios.com/
BEGIN:VEVENT
UID:390046c6-f2db-425d-9177-cc16e9d32815@www.swearingenfuneral.com
DTSTAMP:20260421T201447Z
DTSTART:20260422T130000Z
DTEND:20260423T000000Z
SUMMARY:Viewing
DESCRIPTION:
URL:https://www.swearingenfuneral.com/obituaries/tessie-lorene-chandler
LOCATION: 1001 N Milt Phillips Ave  Seminole OK 74868
GEO:35.2326258;-96.6717474
END:VEVENT
END:VCALENDAR