BEGIN:VCALENDAR
VERSION:2.0
PRODID:-//Tukios.com/
BEGIN:VEVENT
UID:98fe2cd2-239c-471b-ab01-a3bbe927636d@www.swearingenfuneral.com
DTSTAMP:20260420T233517Z
DTSTART:20260423T190000Z
DTEND:20260423T200000Z
SUMMARY:Funeral Service
DESCRIPTION:
URL:https://www.swearingenfuneral.com/obituaries/deborah-blain
LOCATION:Swearingen Funeral Home  1001 North Milt Phillips Avenue  
	Seminole OK 74868
GEO:35.2326258;-96.6717474
END:VEVENT
END:VCALENDAR