BEGIN:VCALENDAR
VERSION:2.0
PRODID:-//Tukios.com/
BEGIN:VEVENT
UID:b511a72b-c468-4380-b844-4139e03af73b@www.swearingenfuneral.com
DTSTAMP:20260420T234203Z
DTSTART:20260422T220000Z
DTEND:20260423T000000Z
SUMMARY:Visitation
DESCRIPTION:
URL:https://www.swearingenfuneral.com/obituaries/deborah-blain
LOCATION:Swearingen Funeral Home  1001 North Milt Phillips Avenue  
	Seminole OK 74868
GEO:35.2326258;-96.6717474
END:VEVENT
END:VCALENDAR