BEGIN:VCALENDAR
VERSION:2.0
PRODID:-//Tukios.com/
BEGIN:VEVENT
UID:ba63d02f-55aa-4d20-bb2c-cc3bf4880d25@www.swearingenfuneral.com
DTSTAMP:20260426T040619Z
DTSTART:20260429T190000Z
DTEND:20260429T200000Z
SUMMARY:Graveside Service
DESCRIPTION:
URL:https://www.swearingenfuneral.com/obituaries/albert-lonnie-kean
LOCATION:Little Cemetery     Little OK 74868
GEO:35.3481286;-96.6719618
END:VEVENT
END:VCALENDAR