BEGIN:VCALENDAR
VERSION:2.0
PRODID:-//Tukios.com/
BEGIN:VEVENT
UID:c45fe12b-65d1-4e55-b77e-9a5927903706@www.swearingenfuneral.com
DTSTAMP:20260426T040956Z
DTSTART:20260429T010000Z
DTEND:20260429T000000Z
SUMMARY:Viewing
DESCRIPTION:
URL:https://www.swearingenfuneral.com/obituaries/albert-lonnie-kean
LOCATION:Swearingen Funeral Home - Seminole 1001 N Milt Phillips Ave  
	Seminole OK 74868
GEO:35.2326258;-96.6717474
END:VEVENT
END:VCALENDAR