BEGIN:VCALENDAR
VERSION:2.0
PRODID:-//Tukios.com/
BEGIN:VEVENT
UID:847bab2a-210b-4129-aa0e-7faf6cd43636@www.swearingenfuneral.com
DTSTAMP:20260426T041319Z
DTSTART:20260427T180000Z
DTEND:20260428T000000Z
SUMMARY:Viewing
DESCRIPTION:
URL:https://www.swearingenfuneral.com/obituaries/albert-lonnie-kean
LOCATION:Swearingen Funeral Home - Seminole 1001 N Milt Phillips Ave  
	Seminole OK 74868
GEO:35.2326258;-96.6717474
END:VEVENT
END:VCALENDAR